BEGIN:VCALENDAR
VERSION:2.0
PRODID:-//Ugandan Spiritans - ECPv6.9.0//NONSGML v1.0//EN
CALSCALE:GREGORIAN
METHOD:PUBLISH
X-ORIGINAL-URL:https://ugandanspiritans.org
X-WR-CALDESC:Events for Ugandan Spiritans
REFRESH-INTERVAL;VALUE=DURATION:PT1H
X-Robots-Tag:noindex
X-PUBLISHED-TTL:PT1H
BEGIN:VTIMEZONE
TZID:UTC
BEGIN:STANDARD
TZOFFSETFROM:+0000
TZOFFSETTO:+0000
TZNAME:UTC
DTSTART:20210101T000000
END:STANDARD
END:VTIMEZONE
BEGIN:VEVENT
DTSTART;TZID=UTC:20210925T100000
DTEND;TZID=UTC:20210925T170000
DTSTAMP:20260422T223923
CREATED:20210908T193951Z
LAST-MODIFIED:20210908T193951Z
UID:2330-1632564000-1632589200@ugandanspiritans.org
SUMMARY:Diaconate ordinations
DESCRIPTION:Diaconate ordinations at St. John the evangelist\, Nairobi Kenya
URL:https://ugandanspiritans.org/event/diaconate-ordinations/
CATEGORIES:Ordinations
ATTACH;FMTTYPE=image/jpeg:https://ugandanspiritans.org/wp-content/uploads/2021/09/20210908_222946-1.jpg
END:VEVENT
END:VCALENDAR